BEGIN:VCALENDAR
VERSION:2.0
PRODID:-//ChamberMaster//Event Calendar 2.0//EN
METHOD:PUBLISH
X-PUBLISHED-TTL:P3D
REFRESH-INTERVAL:P3D
CALSCALE:GREGORIAN
BEGIN:VEVENT
DTSTART:20260407T213000Z
DTEND:20260407T230000Z
X-MICROSOFT-CDO-ALLDAYEVENT:FALSE
SUMMARY:Real Estate Basics for Business Owners
DESCRIPTION:Learn how to negotiate a lease for your business location\, when and how to own property for your business location\, and 1031 tax free exchanges.\n\n\n\nSpeaker(s): Kaitlyn Richardson\, Attorney
X-ALT-DESC;FMTTYPE=text/html:<br />\nLearn how to negotiate a lease for your business location\, when and how to own property for your business location\, and 1031 tax free exchanges.<br />\n<br />\nSpeaker(s): Kaitlyn Richardson\, Attorney
LOCATION:This will be a live webinar presented through Zoom. Meeting and access information for this webinar will be emailed after registration. If you do not see the registration information 48 hours after registering\, please check your spam folder. If you need assistance\, please call 910-755-7498. Please note\, live seminars are not recorded.
UID:e.605.44894
SEQUENCE:3
DTSTAMP:20260425T112343Z
URL:https://business.brunswickcountychamber.org/events/details/real-estate-basics-for-business-owners-04-07-2026-44894
END:VEVENT

END:VCALENDAR
