BEGIN:VCALENDAR
VERSION:2.0
PRODID:-//ChamberMaster//Event Calendar 2.0//EN
METHOD:PUBLISH
X-PUBLISHED-TTL:P3D
REFRESH-INTERVAL:P3D
CALSCALE:GREGORIAN
BEGIN:VEVENT
DTSTART:20260326T160000Z
DTEND:20260326T170000Z
X-MICROSOFT-CDO-ALLDAYEVENT:FALSE
SUMMARY:Ribbon Cutting - Anjali Holistic Healthcare
DESCRIPTION:Join us as we celebrate another exciting milestone in our business community. We're hosting a Ribbon Cutting for Anjali Holistic Healthcare on March 26 at 12:00 PM\, located at 7004 Beach Road in Ocean Isle Beach.\n \n\nCome meet the team\, learn more about their services\, and help us welcome them as they continue to serve Brunswick County. Ribbon cuttings are a wonderful way to show support for local businesses and connect with fellow members.
X-ALT-DESC;FMTTYPE=text/html:<p dir="ltr" style="line-height:1.38\;margin-top:0pt\;margin-bottom:0pt\;"><span id="docs-internal-guid-fafd435e-7fff-ffc9-7d81-ffb4e7d90717"><span style="font-size: 11pt\; font-family: Lexend\, sans-serif\; color: rgb(0\, 0\, 0)\; background-color: transparent\; font-variant-numeric: normal\; font-variant-east-asian: normal\; font-variant-alternates: normal\; font-variant-position: normal\; font-variant-emoji: normal\; vertical-align: baseline\; white-space-collapse: preserve\;">Join us as we celebrate another exciting milestone in our business community. We&rsquo\;re hosting a Ribbon Cutting for Anjali Holistic Healthcare on March 26 at 12:00 PM\, located at 7004 Beach Road in Ocean Isle Beach.</span></span></p>\n&nbsp\;\n\n<p dir="ltr" style="line-height:1.38\;margin-top:0pt\;margin-bottom:0pt\;"><span id="docs-internal-guid-fafd435e-7fff-ffc9-7d81-ffb4e7d90717"><span style="font-size: 11pt\; font-family: Lexend\, sans-serif\; color: rgb(0\, 0\, 0)\; background-color: transparent\; font-variant-numeric: normal\; font-variant-east-asian: normal\; font-variant-alternates: normal\; font-variant-position: normal\; font-variant-emoji: normal\; vertical-align: baseline\; white-space-collapse: preserve\;">Come meet the team\, learn more about their services\, and help us welcome them as they continue to serve Brunswick County. Ribbon cuttings are a wonderful way to show support for local businesses and connect with fellow members.</span></span></p>\n\n<div>&nbsp\;</div>\n
LOCATION:
UID:e.605.45139
SEQUENCE:3
DTSTAMP:20260422T002754Z
URL:https://business.brunswickcountychamber.org/events/details/ribbon-cutting-anjali-holistic-healthcare-45139
END:VEVENT

END:VCALENDAR
