BEGIN:VCALENDAR
VERSION:2.0
PRODID:-//ChamberMaster//Event Calendar 2.0//EN
METHOD:PUBLISH
X-PUBLISHED-TTL:P3D
REFRESH-INTERVAL:P3D
CALSCALE:GREGORIAN
BEGIN:VEVENT
DTSTART:20260312T200000Z
DTEND:20260312T210000Z
X-MICROSOFT-CDO-ALLDAYEVENT:FALSE
SUMMARY:Ribbon Cutting - Beach Primary Care & Wellness
DESCRIPTION:Mark your calendar and plan to join us for a special celebration.\n\nWe're excited to host a Ribbon Cutting for Beach Primary Care and Wellness on March 12 at 4:00 PM\, located at 863 Ocean Hwy W in Supply
X-ALT-DESC;FMTTYPE=text/html:<p dir="ltr" style="line-height:1.38\;margin-top:12pt\;margin-bottom:12pt\;"><span id="docs-internal-guid-a7dbad1a-7fff-93b2-7962-7e8fb99c34b1"><span style="font-size: 11pt\; font-family: Lexend\, sans-serif\; color: rgb(0\, 0\, 0)\; font-variant-numeric: normal\; font-variant-east-asian: normal\; font-variant-alternates: normal\; font-variant-position: normal\; font-variant-emoji: normal\; vertical-align: baseline\; white-space-collapse: preserve\;">Mark your calendar and plan to join us for a special celebration.</span></span></p>\n\n<p dir="ltr" style="line-height:1.38\;margin-top:12pt\;margin-bottom:12pt\;"><span id="docs-internal-guid-a7dbad1a-7fff-93b2-7962-7e8fb99c34b1"><span style="font-size: 11pt\; font-family: Lexend\, sans-serif\; color: rgb(0\, 0\, 0)\; font-variant-numeric: normal\; font-variant-east-asian: normal\; font-variant-alternates: normal\; font-variant-position: normal\; font-variant-emoji: normal\; vertical-align: baseline\; white-space-collapse: preserve\;">We&rsquo\;re excited to host a Ribbon Cutting for Beach Primary Care and Wellness on March 12 at 4:00 PM\, located at 863 Ocean Hwy W in Supply</span></span></p>\n
LOCATION:
UID:e.605.45136
SEQUENCE:3
DTSTAMP:20260422T002648Z
URL:https://business.brunswickcountychamber.org/events/details/ribbon-cutting-beach-primary-care-wellness-45136
END:VEVENT

END:VCALENDAR
