BEGIN:VCALENDAR
VERSION:2.0
PRODID:-//ChamberMaster//Event Calendar 2.0//EN
METHOD:PUBLISH
X-PUBLISHED-TTL:P3D
REFRESH-INTERVAL:P3D
CALSCALE:GREGORIAN
BEGIN:VEVENT
DTSTART:20251113T210000Z
DTEND:20251113T220000Z
X-MICROSOFT-CDO-ALLDAYEVENT:FALSE
SUMMARY:Ribbon Cutting - RealPro Renovations\, Inc.
DESCRIPTION:Join us in celebrating RealPro Renovations\, Inc.! We're cutting the ribbon on         \,                      .
X-ALT-DESC;FMTTYPE=text/html:Join us in celebrating RealPro Renovations\, Inc.! We&rsquo\;re cutting the ribbon on &#119827\;&#119841\;&#119854\;&#119851\;&#119852\;&#119837\;&#119834\;&#119858\;\, &#119821\;&#119848\;&#119855\;&#119838\;&#119846\;&#119835\;&#119838\;&#119851\; &#120783\;&#120785\;&#119853\;&#119841\; &#119834\;&#119853\; &#120786\; &#119823\;&#119820\;.
LOCATION:570 Meadow Summit Dr\, Suite 17\, Ocean Isle Beach\, NC
UID:e.605.44910
SEQUENCE:3
DTSTAMP:20260425T152312Z
URL:https://business.brunswickcountychamber.org/events/details/ribbon-cutting-realpro-renovations-inc-44910
END:VEVENT

END:VCALENDAR
