BEGIN:VCALENDAR
VERSION:2.0
PRODID:-//ChamberMaster//Event Calendar 2.0//EN
METHOD:PUBLISH
X-PUBLISHED-TTL:P3D
REFRESH-INTERVAL:P3D
CALSCALE:GREGORIAN
BEGIN:VEVENT
DTSTART:20251120T163000Z
DTEND:20251120T173000Z
X-MICROSOFT-CDO-ALLDAYEVENT:FALSE
SUMMARY:Ribbon Cutting - Southshore Bay by D.R. Horton Homes
DESCRIPTION:Join us as we celebrate the Grand Opening & Ribbon Cutting for                by D.R. Horton Homes!
X-ALT-DESC;FMTTYPE=text/html:Join us as we celebrate the Grand Opening &amp\; Ribbon Cutting for &#119826\;&#119848\;&#119854\;&#119853\;&#119841\;&#119852\;&#119841\;&#119848\;&#119851\;&#119838\; &#119809\;&#119834\;&#119858\; by D.R. Horton Homes!
LOCATION:3008 Tasso Dr.\, Sunset Beach\, NC
UID:e.605.44909
SEQUENCE:3
DTSTAMP:20260425T152424Z
URL:https://business.brunswickcountychamber.org/events/details/ribbon-cutting-southshore-bay-by-d-r-horton-homes-44909
END:VEVENT

END:VCALENDAR
