BEGIN:VCALENDAR
VERSION:2.0
PRODID:-//ChamberMaster//Event Calendar 2.0//EN
METHOD:PUBLISH
X-PUBLISHED-TTL:P3D
REFRESH-INTERVAL:P3D
CALSCALE:GREGORIAN
BEGIN:VEVENT
DTSTART:20260317T160000Z
DTEND:20260317T170000Z
X-MICROSOFT-CDO-ALLDAYEVENT:FALSE
SUMMARY:Ribbon Cutting - Stanley Martin Neighborhood
DESCRIPTION:Join us for a Ribbon Cutting on March 17 at 12:00 PM as we celebrate Stanley Martin and their new neighborhood in Leland. The event will take place at 7411 Linda Vis Lane\, and it's a great opportunity to connect with fellow members while welcoming continued growth in our community.
X-ALT-DESC;FMTTYPE=text/html:<p dir="ltr" style="line-height:1.38\;margin-top:12pt\;margin-bottom:12pt\;"><span id="docs-internal-guid-db856d54-7fff-c8b6-adef-1b0e9ce512af"><span style="font-size: 11pt\; font-family: Lexend\, sans-serif\; color: rgb(0\, 0\, 0)\; font-variant-numeric: normal\; font-variant-east-asian: normal\; font-variant-alternates: normal\; font-variant-position: normal\; font-variant-emoji: normal\; vertical-align: baseline\; white-space-collapse: preserve\;">Join us for a Ribbon Cutting on March 17 at 12:00 PM as we celebrate Stanley Martin and their new neighborhood in Leland. The event will take place at 7411 Linda Vis Lane\, and it&rsquo\;s a great opportunity to connect with fellow members while welcoming continued growth in our community.</span></span></p>\n
LOCATION:
UID:e.605.45137
SEQUENCE:3
DTSTAMP:20260422T002754Z
URL:https://business.brunswickcountychamber.org/events/details/ribbon-cutting-stanley-martin-neighborhood-45137
END:VEVENT

END:VCALENDAR
