BEGIN:VCALENDAR
VERSION:2.0
PRODID:-//ChamberMaster//Event Calendar 2.0//EN
METHOD:PUBLISH
X-PUBLISHED-TTL:P3D
REFRESH-INTERVAL:P3D
CALSCALE:GREGORIAN
BEGIN:VEVENT
DTSTART:20260416T213000Z
DTEND:20260416T230000Z
X-MICROSOFT-CDO-ALLDAYEVENT:FALSE
SUMMARY:Setting up Google Business Profile
DESCRIPTION:Having a Google My Business Profile (GMB) for your business is another channel for presenting your business\, products\, and services through Google Search. In this session\, we will explore what a GMB Profile looks like\, how to take ownership of your business's GMB Profile\, as well as how to manage and get your GMB Profile to show up in Google Searches.\n\n\n\nSpeaker(s): Shanna Capps JNOW Media
X-ALT-DESC;FMTTYPE=text/html:Having a Google My Business Profile (GMB) for your business is another channel for presenting your business\, products\, and services through Google Search. In this session\, we will explore what a GMB Profile looks like\, how to take ownership of your business&#39\;s GMB Profile\, as well as how to manage and get your GMB Profile to show up in Google Searches.<br />\n<br />\nSpeaker(s): Shanna Capps JNOW Media
LOCATION:This will be a live webinar presented through Zoom. Meeting and access information for this webinar will be emailed after registration. If you do not see the registration information 48 hours after registering\, please check your spam folder. If you need assistance\, please call 910-755-7498. Please note\, live seminars are not recorded.
UID:e.605.44899
SEQUENCE:3
DTSTAMP:20260425T112120Z
URL:https://business.brunswickcountychamber.org/events/details/setting-up-google-business-profile-04-16-2026-44899
END:VEVENT

END:VCALENDAR
