BEGIN:VCALENDAR
VERSION:2.0
PRODID:-//ChamberMaster//Event Calendar 2.0//EN
METHOD:PUBLISH
X-PUBLISHED-TTL:P3D
REFRESH-INTERVAL:P3D
CALSCALE:GREGORIAN
BEGIN:VEVENT
DTSTART:20251114T230000Z
DTEND:20251115T030000Z
X-MICROSOFT-CDO-ALLDAYEVENT:FALSE
SUMMARY:Sparkling Holiday Show and Fundraiser
DESCRIPTION:Holiday Show and Fundraiser for the GFWC-SBI\n\nFelix and Fingers Dueling Piano Interactive Show\n\nDinner\, Cash Bar\, Silent Auction and Raffle
X-ALT-DESC;FMTTYPE=text/html:Holiday Show and Fundraiser for the GFWC-SBI<br />\nFelix and Fingers Dueling Piano Interactive Show<br />\nDinner\, Cash Bar\, Silent Auction and Raffle
LOCATION:Sea Trail Convention Center 75 Clubhouse Rd Sunset Beach NC
UID:e.605.44836
SEQUENCE:3
DTSTAMP:20260425T164131Z
URL:https://business.brunswickcountychamber.org/events/details/sparkling-holiday-show-and-fundraiser-44836
END:VEVENT

END:VCALENDAR
