BEGIN:VCALENDAR
VERSION:2.0
PRODID:-//ChamberMaster//Event Calendar 2.0//EN
METHOD:PUBLISH
X-PUBLISHED-TTL:P3D
REFRESH-INTERVAL:P3D
CALSCALE:GREGORIAN
BEGIN:VEVENT
DTSTART:20250812T160000Z
DTEND:20250812T173000Z
X-MICROSOFT-CDO-ALLDAYEVENT:FALSE
SUMMARY:Starting your Business on eBay: The Basics of Selling on eBay
DESCRIPTION:A great seminar for the "beginner"\, small business owner\, or the entrepreneur wanting to make eBay a primary business tool.  During this fast-paced session\, learn best practices to use when setting up an account\, listing items for sale\, taking payments\, and shipping.  Topics will include eBay appraisals and research\, registering on eBay and starting a seller's account\, choosing formats & categories\, writing descriptions that sell\, submitting photos\, feedback\, starting up and using a PayPal account\, shipping tips and pricing philosophies that will make you an eBay Top Rated Seller!!
X-ALT-DESC;FMTTYPE=text/html:A great seminar for the &ldquo\;beginner&rdquo\;\, small business owner\, or the entrepreneur wanting to make eBay a primary business tool.&nbsp\; During this fast-paced session\, learn best practices to use when setting up an account\, listing items for sale\, taking payments\, and shipping.&nbsp\; Topics will include eBay appraisals and research\, registering on eBay and starting a seller&rsquo\;s account\, choosing formats &amp\; categories\, writing descriptions that sell\, submitting photos\, feedback\, starting up and using a PayPal account\, shipping tips and pricing philosophies that will make you an eBay Top Rated Seller!!
LOCATION:Online
UID:e.605.44037
SEQUENCE:3
DTSTAMP:20260425T204220Z
URL:https://business.brunswickcountychamber.org/events/details/starting-your-business-on-ebay-the-basics-of-selling-on-ebay-08-12-2025-44037
END:VEVENT

END:VCALENDAR
