BEGIN:VCALENDAR
VERSION:2.0
PRODID:-//ChamberMaster//Event Calendar 2.0//EN
METHOD:PUBLISH
X-PUBLISHED-TTL:P3D
REFRESH-INTERVAL:P3D
CALSCALE:GREGORIAN
BEGIN:VEVENT
DTSTART:20260409T143000Z
DTEND:20260409T170000Z
X-MICROSOFT-CDO-ALLDAYEVENT:FALSE
SUMMARY:Storm-Proof Your Business
DESCRIPTION:Join us for a in person seminar designed to help small business owners prepare for hurricane season with confidence. Sponsored by SERVPRO\, a leader in storm damage restoration and cleanup\, this class will guide participants on creating an effective emergency plan\, preparing essential emergency resources\, and protecting property before a storm hits. The session will also highlight local resources\, insurance considerations\, and post-storm recovery steps\, including how SERVPRO can assist with cleanup and restoration if damage occurs. By the end of the class\, attendees will have practical tools\, checklists\, and expert insights to better protect their businesses before\, during\, and after a storm.\n\n\n\nSpeaker(s): Jenny Alaimo\, SERVPRO\n\n\n\nCo-Sponsor(s):\n\n\n\nJoin us for an IN-PERSON seminar at Brunswick Community College Leland Campus\, located at 50 College Rd\, NE Bolivia\, NC 28422 in Building A\, Room Culinary Arts.
X-ALT-DESC;FMTTYPE=text/html:Join us for a in person seminar designed to help small business owners prepare for hurricane season with confidence. Sponsored by SERVPRO\, a leader in storm damage restoration and cleanup\, this class will guide participants on creating an effective emergency plan\, preparing essential emergency resources\, and protecting property before a storm hits. The session will also highlight local resources\, insurance considerations\, and post-storm recovery steps\, including how SERVPRO can assist with cleanup and restoration if damage occurs. By the end of the class\, attendees will have practical tools\, checklists\, and expert insights to better protect their businesses before\, during\, and after a storm.<br />\n<br />\nSpeaker(s): Jenny Alaimo\, SERVPRO<br />\n<br />\nCo-Sponsor(s):<br />\n<br />\nJoin us for an IN-PERSON seminar at Brunswick Community College Leland Campus\, located at 50 College Rd\, NE Bolivia\, NC 28422 in Building A\, Room Culinary Arts.
LOCATION:Brunswick Community College Main Campus\, 50 College Rd. Bolivia Building A\, Room Culinary Center
UID:e.605.45045
SEQUENCE:3
DTSTAMP:20260425T112233Z
URL:https://business.brunswickcountychamber.org/events/details/storm-proof-your-business-04-09-2026-45045
END:VEVENT

END:VCALENDAR
