BEGIN:VCALENDAR
VERSION:2.0
PRODID:-//ChamberMaster//Event Calendar 2.0//EN
METHOD:PUBLISH
X-PUBLISHED-TTL:P3D
REFRESH-INTERVAL:P3D
CALSCALE:GREGORIAN
BEGIN:VEVENT
DTSTART:20270211T183000Z
DTEND:20270211T193000Z
X-MICROSOFT-CDO-ALLDAYEVENT:FALSE
SUMMARY:Stroke Talk
DESCRIPTION:Stroke Talk is a monthly support group for survivors and caregivers as well as anyone interested in stroke.  The group alternates its meetings with speakers one month and general discussion the following month.  Open to the community.
X-ALT-DESC;FMTTYPE=text/html:Stroke Talk is a monthly support group for survivors and caregivers as well as anyone interested in stroke. &nbsp\;The group alternates its meetings with speakers one month and general discussion the following month. &nbsp\;Open to the community.
LOCATION:Seaside United Methodist Church 1300 Seaside Road SW Sunset Beach\, NC. 28468
UID:e.605.21134
SEQUENCE:3
DTSTAMP:20260424T113015Z
URL:https://business.brunswickcountychamber.org/events/details/stroke-talk-02-11-2027-21134
END:VEVENT

END:VCALENDAR
