BEGIN:VCALENDAR
VERSION:2.0
PRODID:-//ChamberMaster//Event Calendar 2.0//EN
METHOD:PUBLISH
X-PUBLISHED-TTL:P3D
REFRESH-INTERVAL:P3D
CALSCALE:GREGORIAN
BEGIN:VEVENT
DTSTART:20260601T070000Z
DTEND:20260605T090000Z
X-MICROSOFT-CDO-ALLDAYEVENT:FALSE
SUMMARY:Teen Comic Book Camp: How to Make Comics: 101
DESCRIPTION:Rourk Branch Library will be running a Teen Comic Book Camp titled 'How to Make Comics: 101'. Teens and High Schoolers will learn the process of comic book creation from a professional Comic Book Creator. The 5 day program will run from Monday\, June 1st\, to Friday\, June 5th 2026. For two hours each day the camp will go over the five standard steps professionals use in the industry to create short comic book\, including writing\, drawing\, inking\, coloring\, and lettering. \n\n\n\nParticipants will learn visual storytelling\, creative problem-solving\, collaboration\, and project planning while producing an original short comic. The program supports arts education\, literacy\, and youth engagement by providing hands-on creative instruction in an accessible community space\, empowering teens with practical skills and confidence in self-expression. By completing the program\, teens will strengthen communication\, critical thinking\, and social skills that build meaningful engagement through this creative endeavor.\n\n\n\nRegistration is required and seats are limited so contact the Shallotte City Library\, Rourk Branch\, for your teen's seat today.
X-ALT-DESC;FMTTYPE=text/html:<p><span style="font-size:14px"><span style="font-family:comic sans ms">Rourk Branch Library will be running a Teen Comic Book Camp titled &#39\;How to Make Comics: 101&#39\;. Teens and High Schoolers will learn the process of comic book creation from a professional Comic Book Creator. The 5 day program will run from Monday\, June 1st\, to Friday\, June 5th 2026. For two hours each day the camp will go over the five standard steps professionals use in the industry to create short comic book\, including&nbsp\;writing\, drawing\, inking\, coloring\, and lettering.&nbsp\;<br />\n<br />\nParticipants will learn visual storytelling\, creative problem-solving\, collaboration\, and project planning while producing an original short comic. The program supports arts education\, literacy\, and youth engagement by providing hands-on creative instruction in an accessible community space\, empowering teens with practical skills and confidence in self-expression.&nbsp\;By completing the program\, teens will strengthen communication\, critical thinking\, and social skills that build meaningful engagement through this creative endeavor.<br />\n<br />\nRegistration is required and seats are limited so contact the Shallotte City Library\,&nbsp\;Rourk Branch\, for your teen&#39\;s seat today.</span></span></p>\n\n<p>&nbsp\;</p>\n
LOCATION:Brunswick County Library - Rourk Library 5068 Main St\, Shallotte\, NC 28470 (910) 754-6578 https://www.brunswickcountync.gov/
UID:e.605.45178
SEQUENCE:3
DTSTAMP:20260419T213232Z
URL:https://business.brunswickcountychamber.org/events/details/teen-library-summer-program-how-to-make-comics-101-45178
END:VEVENT

END:VCALENDAR
