BEGIN:VCALENDAR
VERSION:2.0
PRODID:-//ChamberMaster//Event Calendar 2.0//EN
METHOD:PUBLISH
X-PUBLISHED-TTL:P3D
REFRESH-INTERVAL:P3D
CALSCALE:GREGORIAN
BEGIN:VEVENT
DTSTART:20260415T160000Z
DTEND:20260415T173000Z
X-MICROSOFT-CDO-ALLDAYEVENT:FALSE
SUMMARY:Use of AI Tools for Small Business - Part 2
DESCRIPTION:A comprehensive 4-week course that dives deep into practical AI tools\, implementation\, and business growth. Week two will focus on the use of AI tools for small business.\n\n\n\nSpeaker(s): Frank Del Villar\, Financial Analyst
X-ALT-DESC;FMTTYPE=text/html:A comprehensive 4-week course that dives deep into practical AI tools\, implementation\, and business growth. Week two will focus on the use of AI tools for small business.<br />\n<br />\nSpeaker(s): Frank Del Villar\, Financial Analyst
LOCATION:This will be a live webinar presented through Zoom. Meeting and access information for this webinar will be emailed after registration. If you do not see the registration information 48 hours after registering\, please check your spam folder. If you need assistance\, please call 910-755-7498. Please note\, live seminars are not recorded.
UID:e.605.44898
SEQUENCE:3
DTSTAMP:20260425T112235Z
URL:https://business.brunswickcountychamber.org/events/details/use-of-ai-tools-for-small-business-part-2-44898
END:VEVENT

END:VCALENDAR
