BEGIN:VCALENDAR
VERSION:2.0
PRODID:-//ChamberMaster//Event Calendar 2.0//EN
METHOD:PUBLISH
X-PUBLISHED-TTL:P3D
REFRESH-INTERVAL:P3D
CALSCALE:GREGORIAN
BEGIN:VEVENT
DTSTART:20260218T223000Z
DTEND:20260219T003000Z
X-MICROSOFT-CDO-ALLDAYEVENT:FALSE
SUMMARY:Using Reports to Make Better Business Decisions - Part 3
DESCRIPTION:This webinar will focus on the following: 1. Learn the importance of verifying the accuracy of your numbers by reconciling bank and credit card statements. 2. Learn how to customize recurring reports that show your business profitability. 3. Learn the basic reports needed for your business banker & tax preparer. 4. Finally\, be able to use the information in your QuickBooks to make real life decisions.\n\n\n\nSpeaker(s): Amanda Chestnut\, JD\, Accountant\, Money Mastery
X-ALT-DESC;FMTTYPE=text/html:This webinar will focus on the following: 1. Learn the importance of verifying the accuracy of your numbers by reconciling bank and credit card statements. 2. Learn how to customize recurring reports that show your business profitability. 3. Learn the basic reports needed for your business banker &amp\; tax preparer. 4. Finally\, be able to use the information in your QuickBooks to make real life decisions.<br />\n<br />\nSpeaker(s): Amanda Chestnut\, JD\, Accountant\, Money Mastery
LOCATION:This will be a live webinar presented through Zoom. Meeting and access information for this webinar will be emailed after registration. If you do not see the registration information 48 hours after registering\, please check your spam folder. If you need assistance\, please call 910-755-7498. Please note\, live seminars are not recorded.
UID:e.605.44875
SEQUENCE:3
DTSTAMP:20260425T123258Z
URL:https://business.brunswickcountychamber.org/events/details/using-reports-to-make-better-business-decisions-part-3-44875
END:VEVENT

END:VCALENDAR
