BEGIN:VCALENDAR
VERSION:2.0
PRODID:-//ChamberMaster//Event Calendar 2.0//EN
METHOD:PUBLISH
X-PUBLISHED-TTL:P3D
REFRESH-INTERVAL:P3D
CALSCALE:GREGORIAN
BEGIN:VEVENT
DTSTART;VALUE=DATE:20260304
DTEND;VALUE=DATE:20260305
TRANSP:TRANSPARENT
X-MICROSOFT-CDO-ALLDAYEVENT:TRUE
SUMMARY:Wine\, Women & Chocolate
DESCRIPTION:Plan for an evening of shopping\, sweet treats\, and time well spent with friends. Tickets are $   and include event admission\, one drink ticket\, one raffle ticket\, shopping\, food\, and plenty of chocolate.
X-ALT-DESC;FMTTYPE=text/html:<span id="docs-internal-guid-9e0cb39a-7fff-b492-9bcf-54e119836e65"><span style="font-size: 11pt\; font-family: Lexend\, sans-serif\; color: rgb(0\, 0\, 0)\; background-color: transparent\; font-variant-numeric: normal\; font-variant-east-asian: normal\; font-variant-alternates: normal\; font-variant-position: normal\; font-variant-emoji: normal\; vertical-align: baseline\; white-space-collapse: preserve\;">Plan for an evening of shopping\, sweet treats\, and time well spent with friends. Tickets are $&#120787\;&#120782\; and include event admission\, one drink ticket\, one raffle ticket\, shopping\, food\, and plenty of chocolate.</span></span>
LOCATION:Sea Trail Convention Center 75A Clubhouse Road Sunset Beach\, NC 28468
UID:e.605.45106
SEQUENCE:3
DTSTAMP:20260422T051213Z
URL:https://business.brunswickcountychamber.org/events/details/wine-women-chocolate-45106
END:VEVENT

END:VCALENDAR
