BEGIN:VCALENDAR
VERSION:2.0
PRODID:-//ChamberMaster//Event Calendar 2.0//EN
METHOD:PUBLISH
X-PUBLISHED-TTL:P3D
REFRESH-INTERVAL:P3D
CALSCALE:GREGORIAN
BEGIN:VEVENT
DTSTART:20260318T160000Z
DTEND:20260318T180000Z
X-MICROSOFT-CDO-ALLDAYEVENT:FALSE
SUMMARY:Writing a Business Plan that Works
DESCRIPTION:A business plan can be the most important tool a small business owner has. Learn how to turn your ideas into a solid plan for financing and long-term success. This seminar teaches you the important components of a business plan and helps you lay the foundation for a winning plan. Find out how marketing\, operations\, and finance are interrelated. Discover how a business plan is used by potential lenders\, the dos and don'ts of writing a plan\, and steps for making the process easy. This webinar is designed for new and established business owners.\n\n\n\nSpeaker(s): Tonya Snider tenBiz
X-ALT-DESC;FMTTYPE=text/html:A business plan can be the most important tool a small business owner has. Learn how to turn your ideas into a solid plan for financing and long-term success. This seminar teaches you the important components of a business plan and helps you lay the foundation for a winning plan. Find out how marketing\, operations\, and finance are interrelated. Discover how a business plan is used by potential lenders\, the dos and don&rsquo\;ts of writing a plan\, and steps for making the process easy. This webinar is designed for new and established business owners.<br />\n<br />\nSpeaker(s): Tonya Snider tenBiz
LOCATION:This will be a live webinar presented through Zoom. Meeting and access information for this webinar will be emailed after registration. If you do not see the registration information 48 hours after registering\, please check your spam folder. If you need assistance\, please call 910-755-7498. Please note\, live seminars are not recorded.
UID:e.605.44887
SEQUENCE:3
DTSTAMP:20260422T002611Z
URL:https://business.brunswickcountychamber.org/events/details/writing-a-business-plan-that-works-03-18-2026-44887
END:VEVENT

END:VCALENDAR
